View In:
ArcGIS JavaScript
ArcGIS Online Map Viewer
ArcGIS Earth
Service Description: Brisbane and Suburbs. Printed and Published at the surveyor-general's office, Brisbane 1895. Drawn on Stone by A.R.McKellar. A Qld Globe only service.
Name: QldGlobe/McKellarMaps_1895
Description: Brisbane and Suburbs. Printed and Published at the surveyor-general's office, Brisbane 1895. Drawn on Stone by A.R.McKellar. A Qld Globe only service.
Single Fused Map Cache: false
Extent:
XMin: 1.70270100444E7
YMin: -3189387.6126212324
XMax: 1.7042462907127507E7
YMax: -3173884.1567
Spatial Reference: 102100
(3857)
Initial Extent:
XMin: 1.70270100444E7
YMin: -3189387.6126212324
XMax: 1.7042462907127507E7
YMax: -3173884.1567
Spatial Reference: 102100
(3857)
Full Extent:
XMin: 1.70270100444E7
YMin: -3189387.6126212324
XMax: 1.7042462907127507E7
YMax: -3173884.1567
Spatial Reference: 102100
(3857)
Pixel Size X: 0.4477273780931781
Pixel Size Y: 0.4477273780931711
Band Count: 3
Pixel Type: U8
RasterFunction Infos: {"rasterFunctionInfos": [{
"name": "None",
"description": "A No-Op Function.",
"help": ""
}]}
Mensuration Capabilities: Basic
Has Histograms: true
Has Colormap: false
Has Multi Dimensions : false
Rendering Rule:
Min Scale: 0
Max Scale: 0
Copyright Text: © State of Queensland (Department of Resources) 2021
Service Data Type: esriImageServiceDataTypeRGB
Min Values: 0, 0, 0
Max Values: 255, 250, 218
Mean Values: 220.69713073248056, 196.2872776358953, 169.14748959732282
Standard Deviation Values: 27.555915760652848, 23.81589541734705, 20.252117333495626
Object ID Field: OBJECTID
Fields:
-
OBJECTID
(
type: esriFieldTypeOID, alias: OBJECTID
)
-
Shape
(
type: esriFieldTypeGeometry, alias: Shape
)
-
Name
(
type: esriFieldTypeString, alias: Name, length: 200
)
-
MinPS
(
type: esriFieldTypeDouble, alias: MinPS
)
-
MaxPS
(
type: esriFieldTypeDouble, alias: MaxPS
)
-
LowPS
(
type: esriFieldTypeDouble, alias: LowPS
)
-
HighPS
(
type: esriFieldTypeDouble, alias: HighPS
)
-
Category
(
type: esriFieldTypeInteger, alias: Category
, Coded Values:
[0: Unknown]
, [1: Primary]
, [2: Overview]
, ...5 more...
)
-
Tag
(
type: esriFieldTypeString, alias: Tag, length: 100
)
-
GroupName
(
type: esriFieldTypeString, alias: GroupName, length: 100
)
-
ProductName
(
type: esriFieldTypeString, alias: ProductName, length: 100
)
-
CenterX
(
type: esriFieldTypeDouble, alias: CenterX
)
-
CenterY
(
type: esriFieldTypeDouble, alias: CenterY
)
-
ZOrder
(
type: esriFieldTypeInteger, alias: ZOrder
)
-
Shape_Length
(
type: esriFieldTypeDouble, alias: Shape_Length
)
-
Shape_Area
(
type: esriFieldTypeDouble, alias: Shape_Area
)
-
SOrder
(
type: esriFieldTypeInteger, alias: SOrder
)
-
SLevelPS
(
type: esriFieldTypeDouble, alias: SLevelPS
)
Default Mosaic Method: Seamline
Allowed Mosaic Methods: Seamline,NorthWest,Center,ByAttribute
SortField:
SortValue: null
Mosaic Operator: First
Default Compression Quality: 75
Default Resampling Method: Bilinear
Max Record Count: 1000
Max Image Height: 4100
Max Image Width: 7680
Max Download Image Count: 20
Max Mosaic Image Count: 20
Allow Raster Function: true
Allow Copy: true
Allow Analysis: true
Allow Compute TiePoints: false
Supports Statistics: true
Supports Advanced Queries: true
Use StandardizedQueries: false
Raster Type Infos:
Name: Raster Dataset
Description: Supports all ArcGIS Raster Datasets
Help:
Has Raster Attribute Table: false
Edit Fields Info: null
Ownership Based AccessControl For Rasters: null
Child Resources:
Info
Histograms
Statistics
Key Properties
Legend
Raster Function Infos
Supported Operations:
Export Image
Query
Identify
Measure
Compute Histograms
Compute Statistics Histograms
Get Samples
Compute Class Statistics
Query Boundary
Compute Pixel Location
Compute Angles
Validate
Project